BEGIN:VCALENDAR
VERSION:2.0
PRODID:-//Library Market//iCal Export//EN
BEGIN:VEVENT
SUMMARY:Ms. Gretel Sings!
UID:39063
DTSTAMP:20260422T101800Z
DTSTART:20260601T150000Z
DTEND:20260601T153000Z
LOCATION:Mokena Public Library, 11327 195th St, Mokena, IL 60448, United S
 tates
ROOM: Program Room
DESCRIPTION:
URL:https://mokena.librarycalendar.com/event/ms-gretel-sings-39063
END:VEVENT
END:VCALENDAR
